BEGIN:VCALENDAR
VERSION:2.0
PRODID:-//TYPO3/NONSGML News system (news)//EN
CALSCALE:GREGORIAN
METHOD:PUBLISH
BEGIN:VEVENT
UID:news-111353@voelkermarkt.gv.at

DTSTAMP:20260422T103019Z



DTSTART;TZID=Europe/Vienna:20260316T143000
DTEND;TZID=Europe/Vienna:20260316T160000

SUMMARY:Stammtisch für pflegende Angehörige
DESCRIPTION:Nibelungenstraße 26, 9100 Völkermarkt

LOCATION:


END:VEVENT
END:VCALENDAR
