BEGIN:VCALENDAR
VERSION:2.0
PRODID:-//TYPO3/NONSGML News system (news)//EN
CALSCALE:GREGORIAN
METHOD:PUBLISH
BEGIN:VEVENT
UID:news-106056@voelkermarkt.gv.at

DTSTAMP:20260424T175955Z



DTSTART;TZID=Europe/Vienna:20260124T200000
DTEND;TZID=Europe/Vienna:20260124T000000

SUMMARY:MGV Scholle BALL
DESCRIPTION:Neue Burg Völkermarkt

LOCATION:


END:VEVENT
END:VCALENDAR
